BEGIN:VCALENDAR
VERSION:2.0
PRODID:-//AudioTheme 2.3.3
BEGIN:VEVENT
UID:urn:uuid:994760dc-2719-4f0e-93b6-aeb1088fec95
URL:https://scottkeever.com/shows/celtic-holiday-hooley-at-celtic-junction-5/
DTSTART;TZID=GMT:20251214T000000
SUMMARY:Celtic Holiday Hooley at Celtic Junction
DESCRIPTION:6PM-8PM
LOCATION:Celtic Junction\, 836 Prior Ave N.\, St Paul\, MN\, 55104
END:VEVENT
END:VCALENDAR
