BEGIN:VCALENDAR
VERSION:2.0
PRODID:-//AudioTheme 2.3.3
BEGIN:VEVENT
UID:urn:uuid:06d575cf-ffdb-467e-a72f-b3055bdd5066
URL:https://scottkeever.com/shows/american-swedish-institute-julmarknad-weekend/
DTSTART;TZID=GMT:20221203T000000
SUMMARY:American Swedish Institute - Julmarknad weekend
DESCRIPTION:2PM-3PM    https://asimn.org/
LOCATION:American Swedish Institute\, 2600 Park Ave.\, Minneapolis\, MN
END:VEVENT
END:VCALENDAR
